BEGIN:VCALENDAR
VERSION:2.0
PRODID:-//Family Futures - ECPv6.15.20//NONSGML v1.0//EN
CALSCALE:GREGORIAN
METHOD:PUBLISH
X-WR-CALNAME:Family Futures
X-ORIGINAL-URL:https://familyfutures.org
X-WR-CALDESC:Events for Family Futures
REFRESH-INTERVAL;VALUE=DURATION:PT1H
X-Robots-Tag:noindex
X-PUBLISHED-TTL:PT1H
BEGIN:VTIMEZONE
TZID:America/Detroit
BEGIN:DAYLIGHT
TZOFFSETFROM:-0500
TZOFFSETTO:-0400
TZNAME:EDT
DTSTART:20230312T070000
END:DAYLIGHT
BEGIN:STANDARD
TZOFFSETFROM:-0400
TZOFFSETTO:-0500
TZNAME:EST
DTSTART:20231105T060000
END:STANDARD
BEGIN:DAYLIGHT
TZOFFSETFROM:-0500
TZOFFSETTO:-0400
TZNAME:EDT
DTSTART:20240310T070000
END:DAYLIGHT
BEGIN:STANDARD
TZOFFSETFROM:-0400
TZOFFSETTO:-0500
TZNAME:EST
DTSTART:20241103T060000
END:STANDARD
BEGIN:DAYLIGHT
TZOFFSETFROM:-0500
TZOFFSETTO:-0400
TZNAME:EDT
DTSTART:20250309T070000
END:DAYLIGHT
BEGIN:STANDARD
TZOFFSETFROM:-0400
TZOFFSETTO:-0500
TZNAME:EST
DTSTART:20251102T060000
END:STANDARD
END:VTIMEZONE
BEGIN:VEVENT
DTSTART;TZID=America/Detroit:20241217T090000
DTEND;TZID=America/Detroit:20241217T170000
DTSTAMP:20260420T152402
CREATED:20241125T144143Z
LAST-MODIFIED:20241126T160203Z
UID:10000153-1734426000-1734454800@familyfutures.org
SUMMARY:COMMUNITY RESOURCE | North Kent Connect — Christmas Gift Shop
DESCRIPTION:Dec 17th \n9am – 5pm (select a two-hour time slot) \nNKC Thrift Store\n10075 Northland Dr NE\nRockford\, MI 49341\n(616) 866 – 3478 \n\nCurrent NKC clients with children only!\nSignup ends December 5.
URL:https://familyfutures.org/event/community-resource-north-kent-connect-christmas-gift-shop/
LOCATION:North Kent Connect\, 10075 Northland Dr NE\, Rockford\, MI\, 49341
END:VEVENT
END:VCALENDAR