BEGIN:VCALENDAR
VERSION:2.0
PRODID:-//Family Futures - ECPv6.15.20//NONSGML v1.0//EN
CALSCALE:GREGORIAN
METHOD:PUBLISH
X-WR-CALNAME:Family Futures
X-ORIGINAL-URL:https://familyfutures.org
X-WR-CALDESC:Events for Family Futures
REFRESH-INTERVAL;VALUE=DURATION:PT1H
X-Robots-Tag:noindex
X-PUBLISHED-TTL:PT1H
BEGIN:VTIMEZONE
TZID:America/Detroit
BEGIN:DAYLIGHT
TZOFFSETFROM:-0500
TZOFFSETTO:-0400
TZNAME:EDT
DTSTART:20240310T070000
END:DAYLIGHT
BEGIN:STANDARD
TZOFFSETFROM:-0400
TZOFFSETTO:-0500
TZNAME:EST
DTSTART:20241103T060000
END:STANDARD
BEGIN:DAYLIGHT
TZOFFSETFROM:-0500
TZOFFSETTO:-0400
TZNAME:EDT
DTSTART:20250309T070000
END:DAYLIGHT
BEGIN:STANDARD
TZOFFSETFROM:-0400
TZOFFSETTO:-0500
TZNAME:EST
DTSTART:20251102T060000
END:STANDARD
BEGIN:DAYLIGHT
TZOFFSETFROM:-0500
TZOFFSETTO:-0400
TZNAME:EDT
DTSTART:20260308T070000
END:DAYLIGHT
BEGIN:STANDARD
TZOFFSETFROM:-0400
TZOFFSETTO:-0500
TZNAME:EST
DTSTART:20261101T060000
END:STANDARD
END:VTIMEZONE
BEGIN:VEVENT
DTSTART;TZID=America/Detroit:20251204T160000
DTEND;TZID=America/Detroit:20251204T190000
DTSTAMP:20260425T101124
CREATED:20251125T174221Z
LAST-MODIFIED:20251125T174221Z
UID:10000416-1764864000-1764874800@familyfutures.org
SUMMARY:Annual Book Gift Giveaway
DESCRIPTION:Get a book and give a book!\nWe’ll have: Fun games\, a book gift wrap station\, snacks\, and lots of FREE books. \nDate & Time: Thursday\, December 4\, 2025\, from 4:00 PM to 7:00 PM\nLocation: 1100 César E. Chávez SW\, Grand Rapids\, MI 49503
URL:https://familyfutures.org/event/annual-book-gift-giveaway/
LOCATION:MI
CATEGORIES:Free Event
ATTACH;FMTTYPE=image/jpeg:https://familyfutures.org/wp-content/uploads/2025/11/1000023224.jpg
END:VEVENT
BEGIN:VEVENT
DTSTART;TZID=America/Detroit:20251204T180000
DTEND;TZID=America/Detroit:20251204T193000
DTSTAMP:20260425T101124
CREATED:20251112T174722Z
LAST-MODIFIED:20251112T175200Z
UID:10000405-1764871200-1764876600@familyfutures.org
SUMMARY:📚Advanced Relationship Abuse Support Group
DESCRIPTION:This 6-week educational advanced support group is for survivors of relationship abuse who have completed a cycle of Safe Haven Ministries’ Relationship Abuse Support Group or have participated in similar programming. In addition\, we will focus on these topics specifically around the holiday season. \nUpcoming Dates\nThursdays 6 pm-7:30 pm \n11/6 Trauma Bonds\n11/13 Relationship Grief\n11/20 Trusting Yourself Again\n12/4 Boundary Exploration\n12/11 Building Community\n12/18 Victim Survivor Thriver \nSnacks and refreshments offered. Childcare available. \nFor Information:\nCall or Text\, 616.452.6664 \nAdvocates are available 24/7 via call. text\, or webchat at sarehavenministries.org
URL:https://familyfutures.org/event/advanced-relationship-abuse-support-group/2025-12-04/
LOCATION:Safe Haven Ministries\, 2627 Birchcrest Dr. SE\, Grand Rapids\, MI\, 49506
CATEGORIES:Free Event
END:VEVENT
BEGIN:VEVENT
DTSTART;TZID=America/Detroit:20251204T183000
DTEND;TZID=America/Detroit:20251204T200000
DTSTAMP:20260425T101124
CREATED:20251118T184519Z
LAST-MODIFIED:20251118T185222Z
UID:10000410-1764873000-1764878400@familyfutures.org
SUMMARY:Know Your Rights Workshop
DESCRIPTION:Join the Garfield Park Neighborhood Association\, Alger Heights Neighborhood Association\, and the GR Office of Oversight and Public Accountability for a Know Your Rights workshop. Understand your rights and be prepared for potential encounters with law enforcement in your neighborhood. \nThursday\, December 4 at 6:30 PM \nQuestions? Call: 616-241-2444 \nEmail: info@gpnagr.org or ben@algerheights.org
URL:https://familyfutures.org/event/know-your-rights/
LOCATION:Community of Christ Church\, 2140 Union Ave SE\, Grand Rapids\, MI\, 49507\, United States
END:VEVENT
END:VCALENDAR