BEGIN:VCALENDAR
VERSION:2.0
PRODID:-//Family Futures - ECPv6.15.20//NONSGML v1.0//EN
CALSCALE:GREGORIAN
METHOD:PUBLISH
X-ORIGINAL-URL:https://familyfutures.org
X-WR-CALDESC:Events for Family Futures
REFRESH-INTERVAL;VALUE=DURATION:PT1H
X-Robots-Tag:noindex
X-PUBLISHED-TTL:PT1H
BEGIN:VTIMEZONE
TZID:America/Detroit
BEGIN:DAYLIGHT
TZOFFSETFROM:-0500
TZOFFSETTO:-0400
TZNAME:EDT
DTSTART:20250309T070000
END:DAYLIGHT
BEGIN:STANDARD
TZOFFSETFROM:-0400
TZOFFSETTO:-0500
TZNAME:EST
DTSTART:20251102T060000
END:STANDARD
BEGIN:DAYLIGHT
TZOFFSETFROM:-0500
TZOFFSETTO:-0400
TZNAME:EDT
DTSTART:20260308T070000
END:DAYLIGHT
BEGIN:STANDARD
TZOFFSETFROM:-0400
TZOFFSETTO:-0500
TZNAME:EST
DTSTART:20261101T060000
END:STANDARD
BEGIN:DAYLIGHT
TZOFFSETFROM:-0500
TZOFFSETTO:-0400
TZNAME:EDT
DTSTART:20270314T070000
END:DAYLIGHT
BEGIN:STANDARD
TZOFFSETFROM:-0400
TZOFFSETTO:-0500
TZNAME:EST
DTSTART:20271107T060000
END:STANDARD
END:VTIMEZONE
BEGIN:VEVENT
DTSTART;TZID=America/Detroit:20260314T100000
DTEND;TZID=America/Detroit:20260314T120000
DTSTAMP:20260423T221055
CREATED:20260225T174818Z
LAST-MODIFIED:20260225T174818Z
UID:10000477-1773482400-1773489600@familyfutures.org
SUMMARY:FREE Hands-On DIY Workshop: Basic Electrical
DESCRIPTION:Join Home Repair Services for a FREE hands-on electrical workshop! \nAre you interested in learning the basics of electrical wiring? Do you have DIY projects around the home that require you to install outlets\, light switches\, and light fixtures? Then this workshop is perfect for you! \nThis beginner-friendly workshop will teach you everything you need to know about safely and correctly wiring common electrical components. You’ll learn about: \n\nInstalling outlets: We’ll walk you through the process of installing a new outlet.\nInstalling light switches: You’ll learn how to install a new light switch\, including how to identify the hot and neutral wires.\nInstalling light fixtures: We’ll cover the basics of installing a new light fixture.\n\nNo prior experience is required. This workshop is open to anyone who wants to learn how to safely and correctly wire electrical components in their home. \nHere’s what you can expect: \n\nA fun and interactive learning environment\nHands-on experience with electrical wiring\nAll materials and tools provided\n\nThis workshop series is proudly sponsored by LMCU. \n 
URL:https://familyfutures.org/event/free-hands-on-diy-workshop-basic-electrical/
LOCATION:Home Repair Services\, 1100 S Division\, Grand Rapids\, MI\, 49507\, United States
ATTACH;FMTTYPE=image/jpeg:https://familyfutures.org/wp-content/uploads/2026/02/Workshop-electrical-2048x1536-1.jpg
END:VEVENT
END:VCALENDAR