BEGIN:VCALENDAR
VERSION:2.0
PRODID:-//Family Futures - ECPv6.15.20//NONSGML v1.0//EN
CALSCALE:GREGORIAN
METHOD:PUBLISH
X-WR-CALNAME:Family Futures
X-ORIGINAL-URL:https://familyfutures.org
X-WR-CALDESC:Events for Family Futures
REFRESH-INTERVAL;VALUE=DURATION:PT1H
X-Robots-Tag:noindex
X-PUBLISHED-TTL:PT1H
BEGIN:VTIMEZONE
TZID:America/Detroit
BEGIN:DAYLIGHT
TZOFFSETFROM:-0500
TZOFFSETTO:-0400
TZNAME:EDT
DTSTART:20210314T070000
END:DAYLIGHT
BEGIN:STANDARD
TZOFFSETFROM:-0400
TZOFFSETTO:-0500
TZNAME:EST
DTSTART:20211107T060000
END:STANDARD
BEGIN:DAYLIGHT
TZOFFSETFROM:-0500
TZOFFSETTO:-0400
TZNAME:EDT
DTSTART:20220313T070000
END:DAYLIGHT
BEGIN:STANDARD
TZOFFSETFROM:-0400
TZOFFSETTO:-0500
TZNAME:EST
DTSTART:20221106T060000
END:STANDARD
BEGIN:DAYLIGHT
TZOFFSETFROM:-0500
TZOFFSETTO:-0400
TZNAME:EDT
DTSTART:20230312T070000
END:DAYLIGHT
BEGIN:STANDARD
TZOFFSETFROM:-0400
TZOFFSETTO:-0500
TZNAME:EST
DTSTART:20231105T060000
END:STANDARD
BEGIN:DAYLIGHT
TZOFFSETFROM:-0500
TZOFFSETTO:-0400
TZNAME:EDT
DTSTART:20240310T070000
END:DAYLIGHT
BEGIN:STANDARD
TZOFFSETFROM:-0400
TZOFFSETTO:-0500
TZNAME:EST
DTSTART:20241103T060000
END:STANDARD
END:VTIMEZONE
BEGIN:VEVENT
DTSTART;TZID=America/Detroit:20230413T080000
DTEND;TZID=America/Detroit:20230413T160000
DTSTAMP:20260423T164048
CREATED:20230317T151714Z
LAST-MODIFIED:20230317T151714Z
UID:10000086-1681372800-1681401600@familyfutures.org
SUMMARY:Practicing Resilience Through Relationship Building
DESCRIPTION:Family Futures and Grand Valley State University are pleased to announce our second annual Practicing Resilience Conference\, titled Practicing Resilience through Relationship Building. We aim to help participants gain a deeper understanding of how to build resilience in individuals and our community by applying evidence-based strategies to create meaningful relationships. \nOur Keynote Speaker\, Elizabeth Meins\, Ph.D.\, Professor of Psychology at the University of York\, will join us virtually from the United Kingdom. Dr. Meins has studied how parents interact with their children for over 30 years and in 1997\, she developed the concept of caregiver mind-mindedness: the ability to “tune in” to the baby’s thoughts and feelings.
URL:https://familyfutures.org/event/practicing-resilience-through-relationship-building/
LOCATION:Loosemore Auditorium\, Grand Valley State University Pew Campus\, 401 Fulton St. W\, Grand Rapids\, MI\, 49504\, United States
END:VEVENT
BEGIN:VEVENT
DTSTART;TZID=America/Detroit:20230401T073000
DTEND;TZID=America/Detroit:20230401T103000
DTSTAMP:20260423T164048
CREATED:20230306T141556Z
LAST-MODIFIED:20230306T141556Z
UID:10000090-1680334200-1680345000@familyfutures.org
SUMMARY:Amway River Bank Training Run
DESCRIPTION:Join us for a FREE training run on a portion of the 25K course or a walk inside on the track at the downtown YMCA. Distances vary based on choice and refreshments will be available. Parking is available for non-members in GR Lot #7 (behind Big Boy) for $2.\nPlease plan to meet outside (do not block the entrance way for the Y members) and after your run/walk return to the Community Room for refreshments.
URL:https://familyfutures.org/event/training-run-2/
LOCATION:Downtown GR YMCA\, 475 Lake Michigan Dr NW\, Grand Rapids\, MI\, 49504\, United States
ATTACH;FMTTYPE=image/png:https://familyfutures.org/wp-content/uploads/2023/03/Amway-River-Bank-Run.png
END:VEVENT
BEGIN:VEVENT
DTSTART;TZID=America/Detroit:20230323T170000
DTEND;TZID=America/Detroit:20230323T190000
DTSTAMP:20260423T164049
CREATED:20230306T135607Z
LAST-MODIFIED:20230306T135607Z
UID:10000072-1679590800-1679598000@familyfutures.org
SUMMARY:MLK Family Literacy Night
DESCRIPTION:Join us at MLK Family Literacy Night on March 23 from 5-7pm!
URL:https://familyfutures.org/event/mlk-family-literacy-night/
LOCATION:MLK Jr Leadership Academy\, 645 Logan St SE\, Grand Rapids\, MI\, 49503
ATTACH;FMTTYPE=image/png:https://familyfutures.org/wp-content/uploads/2023/03/MLK-Leadership-Event-Image.png
END:VEVENT
BEGIN:VEVENT
DTSTART;TZID=America/Detroit:20230304T073000
DTEND;TZID=America/Detroit:20230304T103000
DTSTAMP:20260423T164049
CREATED:20230227T180824Z
LAST-MODIFIED:20230227T180824Z
UID:10000073-1677915000-1677925800@familyfutures.org
SUMMARY:Amway River Bank Training Run
DESCRIPTION:Join us for a FREE training run on a portion of the 25K course or a walk inside on the track at the downtown YMCA. Distances vary based on choice and refreshments will be available. Parking is available for non-members in GR Lot #7 (behind Big Boy) for $2.\nPlease plan to meet outside (do not block the entrance way for the Y members) and after your run/walk return to the Community Room for refreshments.
URL:https://familyfutures.org/event/training-run/
LOCATION:Downtown GR YMCA\, 475 Lake Michigan Dr NW\, Grand Rapids\, MI\, 49504\, United States
END:VEVENT
BEGIN:VEVENT
DTSTART;TZID=America/Detroit:20230228T173000
DTEND;TZID=America/Detroit:20230228T190000
DTSTAMP:20260423T164049
CREATED:20230222T155017Z
LAST-MODIFIED:20230222T155017Z
UID:10000074-1677605400-1677610800@familyfutures.org
SUMMARY:Campus Elementary Family Fun Night
DESCRIPTION:Join Family Futures at Campus Elementary for Family Fun Night! This will include a whole evening of games\, crafts\, and prizes! Dinner will be included.
URL:https://familyfutures.org/event/family-fun-night/
LOCATION:Campus Elementary School\, 710 Benjamin Ave. SE\, Grand Rapids\, MI\, 49506\, United States
ATTACH;FMTTYPE=image/png:https://familyfutures.org/wp-content/uploads/2023/02/Screen-Shot-2023-02-22-at-10.46.33-AM.png
END:VEVENT
BEGIN:VEVENT
DTSTART;TZID=America/Detroit:20230218T110000
DTEND;TZID=America/Detroit:20230218T170000
DTSTAMP:20260423T164049
CREATED:20230215T153550Z
LAST-MODIFIED:20230215T153550Z
UID:10000075-1676718000-1676739600@familyfutures.org
SUMMARY:Paint the Park Street Party
DESCRIPTION:Join Family Futures at the World of Winter Grand Rapids’ Paint the Park Street Party! This event is free for all ages. Painting will stop at 4:00 or when space on the ice runs out.
URL:https://familyfutures.org/event/paint-the-park-street-party/
LOCATION:Rosa Parks Circle\, 135 Monroe Street Northwest\, Grand Rapids\, MI\, 49503\, United States
ATTACH;FMTTYPE=image/jpeg:https://familyfutures.org/wp-content/uploads/2023/02/PaintthePark_WorldofWinterFestivalinGrandRapidsMichigan.jpg
END:VEVENT
BEGIN:VEVENT
DTSTART;TZID=America/Detroit:20220729T170000
DTEND;TZID=America/Detroit:20220730T190000
DTSTAMP:20260423T164049
CREATED:20220624T181536Z
LAST-MODIFIED:20220624T182536Z
UID:10000077-1659114000-1659207600@familyfutures.org
SUMMARY:Byron Days Festival: KidsZone
DESCRIPTION:We’re excited to be at the Byron Days Festival this year on Friday\, July 29 and Saturday\, July 30! There will be a variety of family-friendly activities for children on both days\, and we’ll be handing out free books and sensory bottles! \nWe’ll be there 5-9 p.m. on Friday and 12-7 p.m. on Saturday. See you there!
URL:https://familyfutures.org/event/byron-days-festival-kidszone/
LOCATION:Downtown Byron Center\, 2575 84th St SW\, Byron Center\, MI\, 49315\, United States
ATTACH;FMTTYPE=image/png:https://familyfutures.org/wp-content/uploads/2022/06/Healthy-Families-Testimonial-10.png
END:VEVENT
BEGIN:VEVENT
DTSTART;TZID=America/Detroit:20220709T100000
DTEND;TZID=America/Detroit:20220709T160000
DTSTAMP:20260423T164049
CREATED:20220624T175937Z
LAST-MODIFIED:20220624T175937Z
UID:10000078-1657360800-1657382400@familyfutures.org
SUMMARY:Lowell Riverwalk Festival: Kidz Zone
DESCRIPTION:Come join us at the Kidz Zone of the Lowell Riverwalk Festival on Saturday\, July 9 from 10-4 p.m.We’ll be handing out free books\, sensory bottles\, and other items. Here’s some other cool things to check out while you’re at this event: \n\nBatman & Friends visit from 10 a.m. to 12 p.m. (Batmobile weather permitting)\nSuperhero and Princess games with prizes\nSummer Crafts\n\nWe’ll be at a booth north of the Library in Lowell! See you there.
URL:https://familyfutures.org/event/lowell-riverwalk-festival-kidz-zone/
LOCATION:Downtown Lowell\, 113 Riverwalk Plaza\, Lowell\, MI\, 49331\, United States
ATTACH;FMTTYPE=image/png:https://familyfutures.org/wp-content/uploads/2022/06/Healthy-Families-Testimonial-10.png
END:VEVENT
BEGIN:VEVENT
DTSTART;TZID=America/Detroit:20220706T120000
DTEND;TZID=America/Detroit:20220706T130000
DTSTAMP:20260423T164049
CREATED:20220701T173043Z
LAST-MODIFIED:20220706T131925Z
UID:10000076-1657108800-1657112400@familyfutures.org
SUMMARY:Stress Reduction Training for Parents
DESCRIPTION:Parenting is hard – we want to help you through it! Our team member Dr. Sandy Portko will be leading a training on stress reduction for parents through Baxter Community Center’s “Food for Thought” event series. Lunch is provided at the 12:30 session and dinner is provided at the 5:30 session. \nJoin us at Baxter Community Center on Wednesday\, July 6 from 12-1 p.m. or 5:30-6:30 p.m. Register for either session by clicking here: Food for Thought Sign Up
URL:https://familyfutures.org/event/stress-reduction-training-for-parents/
LOCATION:Baxter Community Center\, 935 Baxter Street SE\, Grand Rapids\, MI\, 49506\, United States
ATTACH;FMTTYPE=image/png:https://familyfutures.org/wp-content/uploads/2022/07/Copy-of-Copy-of-Facebook-Event-Coversposts-11.png
END:VEVENT
BEGIN:VEVENT
DTSTART;TZID=America/Detroit:20220625T100000
DTEND;TZID=America/Detroit:20220625T200000
DTSTAMP:20260423T164049
CREATED:20220620T144955Z
LAST-MODIFIED:20220620T152228Z
UID:10000079-1656151200-1656187200@familyfutures.org
SUMMARY:Free Children's Books at the Woodland Mall
DESCRIPTION:We’re excited to partner with the Woodland Mall to hand out free copies of “The Caring Me I Want To Be” by Mary DiPalermo on Saturday\, June 25 from 10 a.m.-8 p.m. Along with the book\, families will receive a calendar with fun activities that go along with the book. \nWe will have a booth setup by the Kids’ Area next to the Food Court. Come say hello to us!
URL:https://familyfutures.org/event/free-childrens-books-at-the-woodland-mall/
LOCATION:Woodland Mall\, 3195 28th Street SE\, Grand Rapids\, MI\, 49512\, United States
ATTACH;FMTTYPE=image/jpeg:https://familyfutures.org/wp-content/uploads/2022/06/Woodland-Mall-Caring-Me-scaled.jpg
END:VEVENT
END:VCALENDAR