BEGIN:VCALENDAR
VERSION:2.0
PRODID:-//Family Futures - ECPv6.15.20//NONSGML v1.0//EN
CALSCALE:GREGORIAN
METHOD:PUBLISH
X-WR-CALNAME:Family Futures
X-ORIGINAL-URL:https://familyfutures.org
X-WR-CALDESC:Events for Family Futures
REFRESH-INTERVAL;VALUE=DURATION:PT1H
X-Robots-Tag:noindex
X-PUBLISHED-TTL:PT1H
BEGIN:VTIMEZONE
TZID:America/Detroit
BEGIN:DAYLIGHT
TZOFFSETFROM:-0500
TZOFFSETTO:-0400
TZNAME:EDT
DTSTART:20230312T070000
END:DAYLIGHT
BEGIN:STANDARD
TZOFFSETFROM:-0400
TZOFFSETTO:-0500
TZNAME:EST
DTSTART:20231105T060000
END:STANDARD
BEGIN:DAYLIGHT
TZOFFSETFROM:-0500
TZOFFSETTO:-0400
TZNAME:EDT
DTSTART:20240310T070000
END:DAYLIGHT
BEGIN:STANDARD
TZOFFSETFROM:-0400
TZOFFSETTO:-0500
TZNAME:EST
DTSTART:20241103T060000
END:STANDARD
BEGIN:DAYLIGHT
TZOFFSETFROM:-0500
TZOFFSETTO:-0400
TZNAME:EDT
DTSTART:20250309T070000
END:DAYLIGHT
BEGIN:STANDARD
TZOFFSETFROM:-0400
TZOFFSETTO:-0500
TZNAME:EST
DTSTART:20251102T060000
END:STANDARD
END:VTIMEZONE
BEGIN:VEVENT
DTSTART;TZID=America/Detroit:20240904T170000
DTEND;TZID=America/Detroit:20240904T183000
DTSTAMP:20260425T161839
CREATED:20240808T193707Z
LAST-MODIFIED:20240808T193707Z
UID:10000135-1725469200-1725474600@familyfutures.org
SUMMARY:West Kelloggsville 1-Mile Family Fun Run
DESCRIPTION:1 Mile Run/Walk Community Event at West Kelloggsville Elementary School.\nThe event will take place on September 4th from 5:00 PM to 6:30 PM. This event is designed to promote health\, wellness\, and community engagement among our students and their families/guardians.
URL:https://familyfutures.org/event/west-kelloggsville-1-mile-family-fun-run/
LOCATION:West Kelloggsville Elementary School\, 242 52nd Street SE\, Grand Rapids\, MI\, 49548
END:VEVENT
END:VCALENDAR