BEGIN:VCALENDAR
VERSION:2.0
PRODID:-//Family Futures - ECPv6.15.20//NONSGML v1.0//EN
CALSCALE:GREGORIAN
METHOD:PUBLISH
X-ORIGINAL-URL:https://familyfutures.org
X-WR-CALDESC:Events for Family Futures
REFRESH-INTERVAL;VALUE=DURATION:PT1H
X-Robots-Tag:noindex
X-PUBLISHED-TTL:PT1H
BEGIN:VTIMEZONE
TZID:America/Detroit
BEGIN:DAYLIGHT
TZOFFSETFROM:-0500
TZOFFSETTO:-0400
TZNAME:EDT
DTSTART:20240310T070000
END:DAYLIGHT
BEGIN:STANDARD
TZOFFSETFROM:-0400
TZOFFSETTO:-0500
TZNAME:EST
DTSTART:20241103T060000
END:STANDARD
BEGIN:DAYLIGHT
TZOFFSETFROM:-0500
TZOFFSETTO:-0400
TZNAME:EDT
DTSTART:20250309T070000
END:DAYLIGHT
BEGIN:STANDARD
TZOFFSETFROM:-0400
TZOFFSETTO:-0500
TZNAME:EST
DTSTART:20251102T060000
END:STANDARD
BEGIN:DAYLIGHT
TZOFFSETFROM:-0500
TZOFFSETTO:-0400
TZNAME:EDT
DTSTART:20260308T070000
END:DAYLIGHT
BEGIN:STANDARD
TZOFFSETFROM:-0400
TZOFFSETTO:-0500
TZNAME:EST
DTSTART:20261101T060000
END:STANDARD
END:VTIMEZONE
BEGIN:VEVENT
DTSTART;TZID=America/Detroit:20251021T170000
DTEND;TZID=America/Detroit:20251021T190000
DTSTAMP:20260425T183004
CREATED:20250130T175249Z
LAST-MODIFIED:20251015T195338Z
UID:10000230-1761066000-1761073200@familyfutures.org
SUMMARY:Family Future's Mini Monsters Trunk or Treat
DESCRIPTION:Join us for our 3rd Annual Mini Monsters Trunk-or-Treat from 5pm – 7pm on October 21st!\nGet ready for our beloved annual Mini Monsters Trunk-or-Treat\, designed especially for families with young children. Enjoy a safe\, fun\, and festive evening of trunk-or-treating with over 1\,000 kids expected to join the fun this year. Costumes are encouraged and treats will be provided for all our trick-or-treaters! \nFor more information or sponsorship opportunities\, contact mkehr@familyfutures.org \nCLICK HERE to sponsor this event!\n\n  \nThank You to our Gold Sponsors!\n \n\n \n  \n  \nThank You to our Silver Sponsors!\n \n \n \n \nJason & Krista Schrotenboer\n 
URL:https://familyfutures.org/event/family-futures-mini-monsters-trunk-or-treat/
LOCATION:Garfield Park\, 250 Burton St SE\, Grand Rapids\, MI\, 49507\, United States
ATTACH;FMTTYPE=image/jpeg:https://familyfutures.org/wp-content/uploads/2025/01/H5A0156-1-scaled.jpg
END:VEVENT
BEGIN:VEVENT
DTSTART;TZID=America/Detroit:20251023T170000
DTEND;TZID=America/Detroit:20251023T190000
DTSTAMP:20260425T183004
CREATED:20250703T160451Z
LAST-MODIFIED:20251008T205204Z
UID:10000336-1761238800-1761246000@familyfutures.org
SUMMARY:🧑‍🤝‍🧑 Trunk or Treat for Lead Defect
DESCRIPTION:Join Healthy Homes Coalition of West Michigan for their annual Trunk or Treat for Lead Defeat! \nHeld during National Lead Poisoning Prevention Week\, we will teach you about what lead is\, where it is\, and what you can do about it. Come for the games\, raffle prizes\, donuts\, cider and candy\, leave with knowledge about lead poisoning prevention! Some other highlights to look forward to: \n\nFamilies will have the opportunity to have their children’s blood lead levels tested (parents must bring their ID and their child’s insurance card)\n\n\nFamilies can also bring soil samples from their home gardens to be tested for lead (soil must be 2-3 cups of dry soil brought in a clean quart-sized zip bag)\n\n\nThere will be over 20 community organizations present\n\n\nThe first 20 people to arrive will receive a free air purifier (only one per household and an adult must be present to claim the air purifier) \n\n  \nFollow our Facebook Page for more information!
URL:https://familyfutures.org/event/trunk-or-treat-for-lead-defect/
LOCATION:SECOM Parking Lot\, 15545 Buchanan Ave SW #2\, Grand Rapids\, MI\, 49507
CATEGORIES:Free Event
ATTACH;FMTTYPE=image/jpeg:https://familyfutures.org/wp-content/uploads/2025/07/English.jpg
END:VEVENT
END:VCALENDAR