BEGIN:VCALENDAR
VERSION:2.0
PRODID:-//Family Futures - ECPv6.15.20//NONSGML v1.0//EN
CALSCALE:GREGORIAN
METHOD:PUBLISH
X-WR-CALNAME:Family Futures
X-ORIGINAL-URL:https://familyfutures.org
X-WR-CALDESC:Events for Family Futures
REFRESH-INTERVAL;VALUE=DURATION:PT1H
X-Robots-Tag:noindex
X-PUBLISHED-TTL:PT1H
BEGIN:VTIMEZONE
TZID:America/Detroit
BEGIN:DAYLIGHT
TZOFFSETFROM:-0500
TZOFFSETTO:-0400
TZNAME:EDT
DTSTART:20240310T070000
END:DAYLIGHT
BEGIN:STANDARD
TZOFFSETFROM:-0400
TZOFFSETTO:-0500
TZNAME:EST
DTSTART:20241103T060000
END:STANDARD
BEGIN:DAYLIGHT
TZOFFSETFROM:-0500
TZOFFSETTO:-0400
TZNAME:EDT
DTSTART:20250309T070000
END:DAYLIGHT
BEGIN:STANDARD
TZOFFSETFROM:-0400
TZOFFSETTO:-0500
TZNAME:EST
DTSTART:20251102T060000
END:STANDARD
BEGIN:DAYLIGHT
TZOFFSETFROM:-0500
TZOFFSETTO:-0400
TZNAME:EDT
DTSTART:20260308T070000
END:DAYLIGHT
BEGIN:STANDARD
TZOFFSETFROM:-0400
TZOFFSETTO:-0500
TZNAME:EST
DTSTART:20261101T060000
END:STANDARD
END:VTIMEZONE
BEGIN:VEVENT
DTSTART;TZID=America/Detroit:20251215T160000
DTEND;TZID=America/Detroit:20251215T190000
DTSTAMP:20260421T092834
CREATED:20251125T172348Z
LAST-MODIFIED:20251125T172348Z
UID:10000414-1765814400-1765825200@familyfutures.org
SUMMARY:Free Christmas Meal and Gift
DESCRIPTION:Hosted by Ellnora’s Kitchen\, Elijah Libbett\, and the Libbett Family. \nAll kids under 18 will receive a free gift. Must be present to receive meal and gift. \nMonday\, December 15\, 2025\n4-7 PM\nUrban Family Ministries Building\n543 Eastern Ave SE\, Grand Rapids\, MI\, 49503 \n 
URL:https://familyfutures.org/event/free-christmas-meal-and-gift/
LOCATION:Urban Family Ministries\, 543 Eastern Ave SE\, Grand Rapids\, 49503\, United States
CATEGORIES:Free Event
END:VEVENT
BEGIN:VEVENT
DTSTART;TZID=America/Detroit:20251218T180000
DTEND;TZID=America/Detroit:20251218T193000
DTSTAMP:20260421T092834
CREATED:20251112T174722Z
LAST-MODIFIED:20251112T175200Z
UID:10000407-1766080800-1766086200@familyfutures.org
SUMMARY:📚Advanced Relationship Abuse Support Group
DESCRIPTION:This 6-week educational advanced support group is for survivors of relationship abuse who have completed a cycle of Safe Haven Ministries’ Relationship Abuse Support Group or have participated in similar programming. In addition\, we will focus on these topics specifically around the holiday season. \nUpcoming Dates\nThursdays 6 pm-7:30 pm \n11/6 Trauma Bonds\n11/13 Relationship Grief\n11/20 Trusting Yourself Again\n12/4 Boundary Exploration\n12/11 Building Community\n12/18 Victim Survivor Thriver \nSnacks and refreshments offered. Childcare available. \nFor Information:\nCall or Text\, 616.452.6664 \nAdvocates are available 24/7 via call. text\, or webchat at sarehavenministries.org
URL:https://familyfutures.org/event/advanced-relationship-abuse-support-group/2025-12-18/
LOCATION:Safe Haven Ministries\, 2627 Birchcrest Dr. SE\, Grand Rapids\, MI\, 49506
CATEGORIES:Free Event
END:VEVENT
END:VCALENDAR