BEGIN:VCALENDAR
VERSION:2.0
PRODID:-//Family Futures - ECPv6.15.20//NONSGML v1.0//EN
CALSCALE:GREGORIAN
METHOD:PUBLISH
X-WR-CALNAME:Family Futures
X-ORIGINAL-URL:https://familyfutures.org
X-WR-CALDESC:Events for Family Futures
REFRESH-INTERVAL;VALUE=DURATION:PT1H
X-Robots-Tag:noindex
X-PUBLISHED-TTL:PT1H
BEGIN:VTIMEZONE
TZID:America/Detroit
BEGIN:DAYLIGHT
TZOFFSETFROM:-0500
TZOFFSETTO:-0400
TZNAME:EDT
DTSTART:20230312T070000
END:DAYLIGHT
BEGIN:STANDARD
TZOFFSETFROM:-0400
TZOFFSETTO:-0500
TZNAME:EST
DTSTART:20231105T060000
END:STANDARD
BEGIN:DAYLIGHT
TZOFFSETFROM:-0500
TZOFFSETTO:-0400
TZNAME:EDT
DTSTART:20240310T070000
END:DAYLIGHT
BEGIN:STANDARD
TZOFFSETFROM:-0400
TZOFFSETTO:-0500
TZNAME:EST
DTSTART:20241103T060000
END:STANDARD
BEGIN:DAYLIGHT
TZOFFSETFROM:-0500
TZOFFSETTO:-0400
TZNAME:EDT
DTSTART:20250309T070000
END:DAYLIGHT
BEGIN:STANDARD
TZOFFSETFROM:-0400
TZOFFSETTO:-0500
TZNAME:EST
DTSTART:20251102T060000
END:STANDARD
END:VTIMEZONE
BEGIN:VEVENT
DTSTART;TZID=America/Detroit:20240706T120000
DTEND;TZID=America/Detroit:20240706T180000
DTSTAMP:20260424T141725
CREATED:20240621T154035Z
LAST-MODIFIED:20240621T154035Z
UID:10000081-1720267200-1720288800@familyfutures.org
SUMMARY:Boston Square Fair
DESCRIPTION:Every Year The Boston Square Neighborhood Association and Community Partners UNITE to offer residents an AMAZING FUN FILLED SUMMER EXPERIENCE. \nCommunity members that JOIN US experience Great Food\, Live Music(Bands and DJ’s) Entertainment. We TAKE PRIDE in having unique food and music offerings. \nKids enjoy an array of different games\, bouncy houses\, dunk tanks\, face painting\, in 2022 over 600 residents stopped by our registraion table and even more walked up to purchase food\, beverages\, and listen to live tunes.
URL:https://familyfutures.org/event/boston-square-fair/
LOCATION:Boston Square Neighborhood\, 1553 Kalamazoo Ave SE\, Grand Rapids\, MI\, 49507
ORGANIZER;CN="Boston Square Neighborhood Association":MAILTO:bostonsquarena@gmail.com
END:VEVENT
END:VCALENDAR