BEGIN:VCALENDAR
VERSION:2.0
PRODID:-//Family Futures - ECPv6.15.20//NONSGML v1.0//EN
CALSCALE:GREGORIAN
METHOD:PUBLISH
X-ORIGINAL-URL:https://familyfutures.org
X-WR-CALDESC:Events for Family Futures
REFRESH-INTERVAL;VALUE=DURATION:PT1H
X-Robots-Tag:noindex
X-PUBLISHED-TTL:PT1H
BEGIN:VTIMEZONE
TZID:America/Detroit
BEGIN:DAYLIGHT
TZOFFSETFROM:-0500
TZOFFSETTO:-0400
TZNAME:EDT
DTSTART:20230312T070000
END:DAYLIGHT
BEGIN:STANDARD
TZOFFSETFROM:-0400
TZOFFSETTO:-0500
TZNAME:EST
DTSTART:20231105T060000
END:STANDARD
BEGIN:DAYLIGHT
TZOFFSETFROM:-0500
TZOFFSETTO:-0400
TZNAME:EDT
DTSTART:20240310T070000
END:DAYLIGHT
BEGIN:STANDARD
TZOFFSETFROM:-0400
TZOFFSETTO:-0500
TZNAME:EST
DTSTART:20241103T060000
END:STANDARD
BEGIN:DAYLIGHT
TZOFFSETFROM:-0500
TZOFFSETTO:-0400
TZNAME:EDT
DTSTART:20250309T070000
END:DAYLIGHT
BEGIN:STANDARD
TZOFFSETFROM:-0400
TZOFFSETTO:-0500
TZNAME:EST
DTSTART:20251102T060000
END:STANDARD
END:VTIMEZONE
BEGIN:VEVENT
DTSTART;TZID=America/Detroit:20240814T163000
DTEND;TZID=America/Detroit:20240814T183000
DTSTAMP:20260422T093721
CREATED:20240801T131704Z
LAST-MODIFIED:20240801T131704Z
UID:10000126-1723653000-1723660200@familyfutures.org
SUMMARY:Open House Buchanan Elementary
DESCRIPTION:We can’t wait to see you all at our Open House!\n\n\n¡Estamos ansiosos por verlos a todos en Nuestra Casa abierta!\n\nMeet your teacher & tour the school.\nResource Vendors and more!
URL:https://familyfutures.org/event/open-house-buchanan-elementary/
LOCATION:Buchanan Elementary\, 1775 Buchanan Ave SW\, Grand Rapids\, MI\, 49507
END:VEVENT
END:VCALENDAR