BEGIN:VCALENDAR
VERSION:2.0
PRODID:-//Family Futures - ECPv6.15.20//NONSGML v1.0//EN
CALSCALE:GREGORIAN
METHOD:PUBLISH
X-ORIGINAL-URL:https://familyfutures.org
X-WR-CALDESC:Events for Family Futures
REFRESH-INTERVAL;VALUE=DURATION:PT1H
X-Robots-Tag:noindex
X-PUBLISHED-TTL:PT1H
BEGIN:VTIMEZONE
TZID:America/Detroit
BEGIN:DAYLIGHT
TZOFFSETFROM:-0500
TZOFFSETTO:-0400
TZNAME:EDT
DTSTART:20240310T070000
END:DAYLIGHT
BEGIN:STANDARD
TZOFFSETFROM:-0400
TZOFFSETTO:-0500
TZNAME:EST
DTSTART:20241103T060000
END:STANDARD
BEGIN:DAYLIGHT
TZOFFSETFROM:-0500
TZOFFSETTO:-0400
TZNAME:EDT
DTSTART:20250309T070000
END:DAYLIGHT
BEGIN:STANDARD
TZOFFSETFROM:-0400
TZOFFSETTO:-0500
TZNAME:EST
DTSTART:20251102T060000
END:STANDARD
BEGIN:DAYLIGHT
TZOFFSETFROM:-0500
TZOFFSETTO:-0400
TZNAME:EDT
DTSTART:20260308T070000
END:DAYLIGHT
BEGIN:STANDARD
TZOFFSETFROM:-0400
TZOFFSETTO:-0500
TZNAME:EST
DTSTART:20261101T060000
END:STANDARD
END:VTIMEZONE
BEGIN:VEVENT
DTSTART;TZID=America/Detroit:20250920T130000
DTEND;TZID=America/Detroit:20250920T153000
DTSTAMP:20260423T105102
CREATED:20250826T190434Z
LAST-MODIFIED:20250826T190434Z
UID:10000385-1758373200-1758382200@familyfutures.org
SUMMARY:🧑‍🤝‍🧑⭐️ Grand Rapids Plays
DESCRIPTION:Join us for PlayGround GR’s Grand Rapids Plays event on Saturday\, September 20th from 1:00pm-3:30pm at Congress Elementary.
URL:https://familyfutures.org/event/grand-rapids-plays/
LOCATION:Congress Elementary\, 940 Baldwin St SE\, Grand Rapids\, MI
CATEGORIES:Family Futures Attending,Free Event
ATTACH;FMTTYPE=image/png:https://familyfutures.org/wp-content/uploads/2025/08/Grand-Rapids-Plays-min.png
END:VEVENT
END:VCALENDAR