BEGIN:VCALENDAR
VERSION:2.0
PRODID:-//Family Futures - ECPv6.15.20//NONSGML v1.0//EN
CALSCALE:GREGORIAN
METHOD:PUBLISH
X-ORIGINAL-URL:https://familyfutures.org
X-WR-CALDESC:Events for Family Futures
REFRESH-INTERVAL;VALUE=DURATION:PT1H
X-Robots-Tag:noindex
X-PUBLISHED-TTL:PT1H
BEGIN:VTIMEZONE
TZID:America/Detroit
BEGIN:DAYLIGHT
TZOFFSETFROM:-0500
TZOFFSETTO:-0400
TZNAME:EDT
DTSTART:20240310T070000
END:DAYLIGHT
BEGIN:STANDARD
TZOFFSETFROM:-0400
TZOFFSETTO:-0500
TZNAME:EST
DTSTART:20241103T060000
END:STANDARD
BEGIN:DAYLIGHT
TZOFFSETFROM:-0500
TZOFFSETTO:-0400
TZNAME:EDT
DTSTART:20250309T070000
END:DAYLIGHT
BEGIN:STANDARD
TZOFFSETFROM:-0400
TZOFFSETTO:-0500
TZNAME:EST
DTSTART:20251102T060000
END:STANDARD
BEGIN:DAYLIGHT
TZOFFSETFROM:-0500
TZOFFSETTO:-0400
TZNAME:EDT
DTSTART:20260308T070000
END:DAYLIGHT
BEGIN:STANDARD
TZOFFSETFROM:-0400
TZOFFSETTO:-0500
TZNAME:EST
DTSTART:20261101T060000
END:STANDARD
END:VTIMEZONE
BEGIN:VEVENT
DTSTART;TZID=America/Detroit:20250614T110000
DTEND;TZID=America/Detroit:20250614T160000
DTSTAMP:20260425T084403
CREATED:20250508T195337Z
LAST-MODIFIED:20250508T195434Z
UID:10000272-1749898800-1749916800@familyfutures.org
SUMMARY:🧑‍🤝‍🧑⭐️ Rock the Block
DESCRIPTION:Come see us at Rock the Block on June 14th from 11am-4pm. Stop by for music\, food\, art\, and resources! \nLearn more about Rock the Block HERE
URL:https://familyfutures.org/event/rock-the-block-3/
LOCATION:Corner of Madison and Hall\, 1167 Madison Ave SE\, Grand Rapids\, MI\, 49507
CATEGORIES:Family Futures Attending,Free Event
ATTACH;FMTTYPE=image/png:https://familyfutures.org/wp-content/uploads/2025/05/Screenshot-2025-05-08-at-3.48.17 PM.png
END:VEVENT
END:VCALENDAR