BEGIN:VCALENDAR
VERSION:2.0
PRODID:-//Family Futures - ECPv6.15.20//NONSGML v1.0//EN
CALSCALE:GREGORIAN
METHOD:PUBLISH
X-ORIGINAL-URL:https://familyfutures.org
X-WR-CALDESC:Events for Family Futures
REFRESH-INTERVAL;VALUE=DURATION:PT1H
X-Robots-Tag:noindex
X-PUBLISHED-TTL:PT1H
BEGIN:VTIMEZONE
TZID:America/Detroit
BEGIN:DAYLIGHT
TZOFFSETFROM:-0500
TZOFFSETTO:-0400
TZNAME:EDT
DTSTART:20230312T070000
END:DAYLIGHT
BEGIN:STANDARD
TZOFFSETFROM:-0400
TZOFFSETTO:-0500
TZNAME:EST
DTSTART:20231105T060000
END:STANDARD
BEGIN:DAYLIGHT
TZOFFSETFROM:-0500
TZOFFSETTO:-0400
TZNAME:EDT
DTSTART:20240310T070000
END:DAYLIGHT
BEGIN:STANDARD
TZOFFSETFROM:-0400
TZOFFSETTO:-0500
TZNAME:EST
DTSTART:20241103T060000
END:STANDARD
BEGIN:DAYLIGHT
TZOFFSETFROM:-0500
TZOFFSETTO:-0400
TZNAME:EDT
DTSTART:20250309T070000
END:DAYLIGHT
BEGIN:STANDARD
TZOFFSETFROM:-0400
TZOFFSETTO:-0500
TZNAME:EST
DTSTART:20251102T060000
END:STANDARD
BEGIN:DAYLIGHT
TZOFFSETFROM:-0500
TZOFFSETTO:-0400
TZNAME:EDT
DTSTART:20260308T070000
END:DAYLIGHT
BEGIN:STANDARD
TZOFFSETFROM:-0400
TZOFFSETTO:-0500
TZNAME:EST
DTSTART:20261101T060000
END:STANDARD
END:VTIMEZONE
BEGIN:VEVENT
DTSTART;TZID=America/Detroit:20250521T170000
DTEND;TZID=America/Detroit:20250521T200000
DTSTAMP:20260425T211229
CREATED:20250424T170320Z
LAST-MODIFIED:20250508T194208Z
UID:10000268-1747846800-1747857600@familyfutures.org
SUMMARY:🧑‍🤝‍🧑⭐️ Laugh & Learn
DESCRIPTION:Come see us at Meijer Gardens on Wednesday\, May 21st from 5pm-8pm for the Laugh & Learn event hosted by Kent ISD. \nVisit our tent for activities and giveaways!
URL:https://familyfutures.org/event/laugh-learn/
LOCATION:Frederik Meijer Gardens & Sculpture Park\, 1000 E Beltline Ave NE\, Grand Rapids\, MI\, 49525\, United States
CATEGORIES:Family Futures Attending,Free Event
END:VEVENT
BEGIN:VEVENT
DTSTART;TZID=America/Detroit:20240515T170000
DTEND;TZID=America/Detroit:20240515T200000
DTSTAMP:20260425T211229
CREATED:20240513T130402Z
LAST-MODIFIED:20240513T135634Z
UID:10000106-1715792400-1715803200@familyfutures.org
SUMMARY:Kent ISD Early Childhood Laugh & Learn
DESCRIPTION:Laugh and Learn is a free event for all families with children enrolled in a Kent ISD Early Childhood Program (including: Early On\, Bright Beginnings\, Great Start Readiness Program\, and Great Start to Quality). Families are invited to come and explore the gardens\, participate in activity stations\, and learn about resources in our community.
URL:https://familyfutures.org/event/kent-isd-early-childhood-laugh-learn/
LOCATION:Frederik Meijer Gardens & Sculpture Park\, 1000 E Beltline Ave NE\, Grand Rapids\, MI\, 49525\, United States
END:VEVENT
END:VCALENDAR