BEGIN:VCALENDAR
VERSION:2.0
PRODID:-//Family Futures - ECPv6.15.20//NONSGML v1.0//EN
CALSCALE:GREGORIAN
METHOD:PUBLISH
X-ORIGINAL-URL:https://familyfutures.org
X-WR-CALDESC:Events for Family Futures
REFRESH-INTERVAL;VALUE=DURATION:PT1H
X-Robots-Tag:noindex
X-PUBLISHED-TTL:PT1H
BEGIN:VTIMEZONE
TZID:America/Detroit
BEGIN:DAYLIGHT
TZOFFSETFROM:-0500
TZOFFSETTO:-0400
TZNAME:EDT
DTSTART:20240310T070000
END:DAYLIGHT
BEGIN:STANDARD
TZOFFSETFROM:-0400
TZOFFSETTO:-0500
TZNAME:EST
DTSTART:20241103T060000
END:STANDARD
BEGIN:DAYLIGHT
TZOFFSETFROM:-0500
TZOFFSETTO:-0400
TZNAME:EDT
DTSTART:20250309T070000
END:DAYLIGHT
BEGIN:STANDARD
TZOFFSETFROM:-0400
TZOFFSETTO:-0500
TZNAME:EST
DTSTART:20251102T060000
END:STANDARD
BEGIN:DAYLIGHT
TZOFFSETFROM:-0500
TZOFFSETTO:-0400
TZNAME:EDT
DTSTART:20260308T070000
END:DAYLIGHT
BEGIN:STANDARD
TZOFFSETFROM:-0400
TZOFFSETTO:-0500
TZNAME:EST
DTSTART:20261101T060000
END:STANDARD
BEGIN:DAYLIGHT
TZOFFSETFROM:-0500
TZOFFSETTO:-0400
TZNAME:EDT
DTSTART:20270314T070000
END:DAYLIGHT
BEGIN:STANDARD
TZOFFSETFROM:-0400
TZOFFSETTO:-0500
TZNAME:EST
DTSTART:20271107T060000
END:STANDARD
END:VTIMEZONE
BEGIN:VEVENT
DTSTART;TZID=America/Detroit:20260416T170000
DTEND;TZID=America/Detroit:20260416T190000
DTSTAMP:20260423T175421
CREATED:20260220T165322Z
LAST-MODIFIED:20260220T165322Z
UID:10000472-1776358800-1776366000@familyfutures.org
SUMMARY:Parent Cafe
DESCRIPTION:Join fellow caregivers at GRCCT for a Parent Cafe on the third Thursday of the month! This is an opportunity to learn\, grow\, and connect with other caregivers from different walks of life. Cafes are a fun and engaging way for caregivers to feel supported\, heard\, and safe to share their needs. If you are interested or have questions\, reach out to Veronica Cook- vcook@bethany.org. \n  \n 
URL:https://familyfutures.org/event/parent-cafe/2026-04-16/
LOCATION:GRCCT\, 1530 Madison Ave SE\, Grand Rapids\, MI\, 49507
ATTACH;FMTTYPE=image/png:https://familyfutures.org/wp-content/uploads/2026/02/Image20260220091809.png
END:VEVENT
BEGIN:VEVENT
DTSTART;TZID=America/Detroit:20260319T170000
DTEND;TZID=America/Detroit:20260319T190000
DTSTAMP:20260423T175421
CREATED:20260220T165322Z
LAST-MODIFIED:20260220T165322Z
UID:10000471-1773939600-1773946800@familyfutures.org
SUMMARY:Parent Cafe
DESCRIPTION:Join fellow caregivers at GRCCT for a Parent Cafe on the third Thursday of the month! This is an opportunity to learn\, grow\, and connect with other caregivers from different walks of life. Cafes are a fun and engaging way for caregivers to feel supported\, heard\, and safe to share their needs. If you are interested or have questions\, reach out to Veronica Cook- vcook@bethany.org. \n  \n 
URL:https://familyfutures.org/event/parent-cafe/2026-03-19/
LOCATION:GRCCT\, 1530 Madison Ave SE\, Grand Rapids\, MI\, 49507
ATTACH;FMTTYPE=image/png:https://familyfutures.org/wp-content/uploads/2026/02/Image20260220091809.png
END:VEVENT
BEGIN:VEVENT
DTSTART;TZID=America/Detroit:20250503T120000
DTEND;TZID=America/Detroit:20250503T160000
DTSTAMP:20260423T175421
CREATED:20250501T184219Z
LAST-MODIFIED:20250501T184316Z
UID:10000270-1746273600-1746288000@familyfutures.org
SUMMARY:🧑‍🤝‍🧑 Caring for Children of Color Youth Resource Fair
DESCRIPTION:Join Osofomaame for a day of FREE Family Fun on May 3rd from 12pm-4pm for their Caring for Children of Color Youth Resource Fair! \nGet connected to over 15 local youth organization and learn about foster care and its impact on our local community.
URL:https://familyfutures.org/event/caring-for-children-of-color-youth-resource-fair/
LOCATION:GRCCT\, 1530 Madison Ave SE\, Grand Rapids\, MI\, 49507
CATEGORIES:Free Event
ATTACH;FMTTYPE=image/jpeg:https://familyfutures.org/wp-content/uploads/2025/05/485137711_639575709005065_1395927355643178_n.jpg
END:VEVENT
END:VCALENDAR