BEGIN:VCALENDAR
VERSION:2.0
PRODID:-//Family Futures - ECPv6.15.20//NONSGML v1.0//EN
CALSCALE:GREGORIAN
METHOD:PUBLISH
X-WR-CALNAME:Family Futures
X-ORIGINAL-URL:https://familyfutures.org
X-WR-CALDESC:Events for Family Futures
REFRESH-INTERVAL;VALUE=DURATION:PT1H
X-Robots-Tag:noindex
X-PUBLISHED-TTL:PT1H
BEGIN:VTIMEZONE
TZID:America/Detroit
BEGIN:DAYLIGHT
TZOFFSETFROM:-0500
TZOFFSETTO:-0400
TZNAME:EDT
DTSTART:20230312T070000
END:DAYLIGHT
BEGIN:STANDARD
TZOFFSETFROM:-0400
TZOFFSETTO:-0500
TZNAME:EST
DTSTART:20231105T060000
END:STANDARD
BEGIN:DAYLIGHT
TZOFFSETFROM:-0500
TZOFFSETTO:-0400
TZNAME:EDT
DTSTART:20240310T070000
END:DAYLIGHT
BEGIN:STANDARD
TZOFFSETFROM:-0400
TZOFFSETTO:-0500
TZNAME:EST
DTSTART:20241103T060000
END:STANDARD
BEGIN:DAYLIGHT
TZOFFSETFROM:-0500
TZOFFSETTO:-0400
TZNAME:EDT
DTSTART:20250309T070000
END:DAYLIGHT
BEGIN:STANDARD
TZOFFSETFROM:-0400
TZOFFSETTO:-0500
TZNAME:EST
DTSTART:20251102T060000
END:STANDARD
END:VTIMEZONE
BEGIN:VEVENT
DTSTART;TZID=America/Detroit:20240817T140000
DTEND;TZID=America/Detroit:20240817T170000
DTSTAMP:20260425T201512
CREATED:20240808T175752Z
LAST-MODIFIED:20240808T175752Z
UID:10000132-1723903200-1723914000@familyfutures.org
SUMMARY:Party with a Purpose
DESCRIPTION:Joyful Sounds Presents the 20th Annual Party with a Purpose Overcoming Obstacles! \nJoin us as we celebrate our youth who have overcome obstacles & continue to excel! \nCity Officials\, Vendors\, Community Leaders\, FREE Give Aways\, Food\, Haircuts\, Fellowship\, Music\, fun!
URL:https://familyfutures.org/event/party-with-a-purpose/
LOCATION:Joyful Sounds\, 718 Lafayette St\, Grand Rapids\, MI
END:VEVENT
END:VCALENDAR