BEGIN:VCALENDAR
VERSION:2.0
PRODID:-//Family Futures - ECPv6.15.20//NONSGML v1.0//EN
CALSCALE:GREGORIAN
METHOD:PUBLISH
X-WR-CALNAME:Family Futures
X-ORIGINAL-URL:https://familyfutures.org
X-WR-CALDESC:Events for Family Futures
REFRESH-INTERVAL;VALUE=DURATION:PT1H
X-Robots-Tag:noindex
X-PUBLISHED-TTL:PT1H
BEGIN:VTIMEZONE
TZID:America/Detroit
BEGIN:DAYLIGHT
TZOFFSETFROM:-0500
TZOFFSETTO:-0400
TZNAME:EDT
DTSTART:20220313T070000
END:DAYLIGHT
BEGIN:STANDARD
TZOFFSETFROM:-0400
TZOFFSETTO:-0500
TZNAME:EST
DTSTART:20221106T060000
END:STANDARD
BEGIN:DAYLIGHT
TZOFFSETFROM:-0500
TZOFFSETTO:-0400
TZNAME:EDT
DTSTART:20230312T070000
END:DAYLIGHT
BEGIN:STANDARD
TZOFFSETFROM:-0400
TZOFFSETTO:-0500
TZNAME:EST
DTSTART:20231105T060000
END:STANDARD
BEGIN:DAYLIGHT
TZOFFSETFROM:-0500
TZOFFSETTO:-0400
TZNAME:EDT
DTSTART:20240310T070000
END:DAYLIGHT
BEGIN:STANDARD
TZOFFSETFROM:-0400
TZOFFSETTO:-0500
TZNAME:EST
DTSTART:20241103T060000
END:STANDARD
END:VTIMEZONE
BEGIN:VEVENT
DTSTART;TZID=America/Detroit:20230909T080000
DTEND;TZID=America/Detroit:20230909T120000
DTSTAMP:20260422T202758
CREATED:20230731T141502Z
LAST-MODIFIED:20230731T141502Z
UID:10000104-1694246400-1694260800@familyfutures.org
SUMMARY:Empowering Parents Conference
DESCRIPTION:Children don’t come with a guidebook\, so Kent ISD created the next\, best thing – a conference to empower parents of children\, birth to five years old\, with tips\, resources and knowledge to make raising your little one just a little easier. \nThis first-ever Empowering Parents conference is for families enrolled in Kent ISD early childhood programs. They’ll cover hot topics like literacy\, behavior\, picky eating and communication with breakout events and panel discussions. \nRegistration will be available August 1. Childcare will not be available for this event. Breakfast will be provided. \nTo learn more about all of the Kent ISD Early Childhood programs\, click here. For more information on events in our community\, check out our events page here. Family Futures is excited to attend the event and we hope to see you there! 
URL:https://familyfutures.org/event/empowering-parents-conference/
LOCATION:Kent ISD\, 2930 Knapp St. NE\, Grand Rapids\, MI\, 49525\, United States
ATTACH;FMTTYPE=image/jpeg:https://familyfutures.org/wp-content/uploads/2023/07/empowering_parents_final_logo.jpg
END:VEVENT
END:VCALENDAR