BEGIN:VCALENDAR
VERSION:2.0
PRODID:-//Family Futures - ECPv6.15.20//NONSGML v1.0//EN
CALSCALE:GREGORIAN
METHOD:PUBLISH
X-ORIGINAL-URL:https://familyfutures.org
X-WR-CALDESC:Events for Family Futures
REFRESH-INTERVAL;VALUE=DURATION:PT1H
X-Robots-Tag:noindex
X-PUBLISHED-TTL:PT1H
BEGIN:VTIMEZONE
TZID:America/Detroit
BEGIN:DAYLIGHT
TZOFFSETFROM:-0500
TZOFFSETTO:-0400
TZNAME:EDT
DTSTART:20240310T070000
END:DAYLIGHT
BEGIN:STANDARD
TZOFFSETFROM:-0400
TZOFFSETTO:-0500
TZNAME:EST
DTSTART:20241103T060000
END:STANDARD
BEGIN:DAYLIGHT
TZOFFSETFROM:-0500
TZOFFSETTO:-0400
TZNAME:EDT
DTSTART:20250309T070000
END:DAYLIGHT
BEGIN:STANDARD
TZOFFSETFROM:-0400
TZOFFSETTO:-0500
TZNAME:EST
DTSTART:20251102T060000
END:STANDARD
BEGIN:DAYLIGHT
TZOFFSETFROM:-0500
TZOFFSETTO:-0400
TZNAME:EDT
DTSTART:20260308T070000
END:DAYLIGHT
BEGIN:STANDARD
TZOFFSETFROM:-0400
TZOFFSETTO:-0500
TZNAME:EST
DTSTART:20261101T060000
END:STANDARD
END:VTIMEZONE
BEGIN:VEVENT
DTSTART;TZID=America/Detroit:20250712T120000
DTEND;TZID=America/Detroit:20250712T150000
DTSTAMP:20260424T113511
CREATED:20250703T162325Z
LAST-MODIFIED:20250703T163211Z
UID:10000337-1752321600-1752332400@familyfutures.org
SUMMARY:🧑‍🤝‍🧑⭐️ Lookout Cookout
DESCRIPTION:Join us at the Lookout Cookout by Neighbors of Belknap Lookout on Saturday\, July 12th from 12-3pm at Lookout Park! \nFor more information click HERE
URL:https://familyfutures.org/event/lookout-cookout/
LOCATION:Lookout Park\, 801 Fairview Ave\, Grand Rapids\, MI\, 49503
CATEGORIES:Free Event
ATTACH;FMTTYPE=application/pdf:https://familyfutures.org/wp-content/uploads/2025/07/Lookout-Cookout-Get-Involved-1.pdf
END:VEVENT
END:VCALENDAR