BEGIN:VCALENDAR
VERSION:2.0
PRODID:-//Family Futures - ECPv6.15.20//NONSGML v1.0//EN
CALSCALE:GREGORIAN
METHOD:PUBLISH
X-ORIGINAL-URL:https://familyfutures.org
X-WR-CALDESC:Events for Family Futures
REFRESH-INTERVAL;VALUE=DURATION:PT1H
X-Robots-Tag:noindex
X-PUBLISHED-TTL:PT1H
BEGIN:VTIMEZONE
TZID:America/Detroit
BEGIN:DAYLIGHT
TZOFFSETFROM:-0500
TZOFFSETTO:-0400
TZNAME:EDT
DTSTART:20220313T070000
END:DAYLIGHT
BEGIN:STANDARD
TZOFFSETFROM:-0400
TZOFFSETTO:-0500
TZNAME:EST
DTSTART:20221106T060000
END:STANDARD
BEGIN:DAYLIGHT
TZOFFSETFROM:-0500
TZOFFSETTO:-0400
TZNAME:EDT
DTSTART:20230312T070000
END:DAYLIGHT
BEGIN:STANDARD
TZOFFSETFROM:-0400
TZOFFSETTO:-0500
TZNAME:EST
DTSTART:20231105T060000
END:STANDARD
BEGIN:DAYLIGHT
TZOFFSETFROM:-0500
TZOFFSETTO:-0400
TZNAME:EDT
DTSTART:20240310T070000
END:DAYLIGHT
BEGIN:STANDARD
TZOFFSETFROM:-0400
TZOFFSETTO:-0500
TZNAME:EST
DTSTART:20241103T060000
END:STANDARD
END:VTIMEZONE
BEGIN:VEVENT
DTSTART;TZID=America/Detroit:20230817T180000
DTEND;TZID=America/Detroit:20230817T200000
DTSTAMP:20260423T053220
CREATED:20230516T145737Z
LAST-MODIFIED:20230516T145737Z
UID:10000099-1692295200-1692302400@familyfutures.org
SUMMARY:Family Fun Days
DESCRIPTION:The Grand Rapids African American Arts and Music Festival\, Grand Rapids Public Library\, and The City of Grand Rapids Office of Special Events are hosting the 3rd Annual Family Fun Days at MLK Park. These events feature free food\, music\, games\, books\, and community resources and vendors. \nCheck out more details on Family Fun Days! \nThis is a reoccurring event with additional days on July 20 and August 17. The themes of each event are: \nJune 15: Game Night\nJuly 20: Art Immersion\nAugust 17: Back to School \nTo learn more about events in our community\, check out our events page.
URL:https://familyfutures.org/event/family-fun-days/2023-08-17/
LOCATION:Martin Luther King Park\, 1200 M.L.K. Jr St SE\, Grand Rapids\, MI\, 49506\, United States
ATTACH;FMTTYPE=image/jpeg:https://familyfutures.org/wp-content/uploads/2023/05/2023GR.FamilyFunDays.FBCoverPhoto.1900×1080px.jpg
END:VEVENT
BEGIN:VEVENT
DTSTART;TZID=America/Detroit:20230720T180000
DTEND;TZID=America/Detroit:20230720T200000
DTSTAMP:20260423T053220
CREATED:20230516T145737Z
LAST-MODIFIED:20230516T145737Z
UID:10000098-1689876000-1689883200@familyfutures.org
SUMMARY:Family Fun Days
DESCRIPTION:The Grand Rapids African American Arts and Music Festival\, Grand Rapids Public Library\, and The City of Grand Rapids Office of Special Events are hosting the 3rd Annual Family Fun Days at MLK Park. These events feature free food\, music\, games\, books\, and community resources and vendors. \nCheck out more details on Family Fun Days! \nThis is a reoccurring event with additional days on July 20 and August 17. The themes of each event are: \nJune 15: Game Night\nJuly 20: Art Immersion\nAugust 17: Back to School \nTo learn more about events in our community\, check out our events page.
URL:https://familyfutures.org/event/family-fun-days/2023-07-20/
LOCATION:Martin Luther King Park\, 1200 M.L.K. Jr St SE\, Grand Rapids\, MI\, 49506\, United States
ATTACH;FMTTYPE=image/jpeg:https://familyfutures.org/wp-content/uploads/2023/05/2023GR.FamilyFunDays.FBCoverPhoto.1900×1080px.jpg
END:VEVENT
BEGIN:VEVENT
DTSTART;TZID=America/Detroit:20230615T180000
DTEND;TZID=America/Detroit:20230615T200000
DTSTAMP:20260423T053220
CREATED:20230516T145737Z
LAST-MODIFIED:20230516T145737Z
UID:10000097-1686852000-1686859200@familyfutures.org
SUMMARY:Family Fun Days
DESCRIPTION:The Grand Rapids African American Arts and Music Festival\, Grand Rapids Public Library\, and The City of Grand Rapids Office of Special Events are hosting the 3rd Annual Family Fun Days at MLK Park. These events feature free food\, music\, games\, books\, and community resources and vendors. \nCheck out more details on Family Fun Days! \nThis is a reoccurring event with additional days on July 20 and August 17. The themes of each event are: \nJune 15: Game Night\nJuly 20: Art Immersion\nAugust 17: Back to School \nTo learn more about events in our community\, check out our events page.
URL:https://familyfutures.org/event/family-fun-days/2023-06-15/
LOCATION:Martin Luther King Park\, 1200 M.L.K. Jr St SE\, Grand Rapids\, MI\, 49506\, United States
ATTACH;FMTTYPE=image/jpeg:https://familyfutures.org/wp-content/uploads/2023/05/2023GR.FamilyFunDays.FBCoverPhoto.1900×1080px.jpg
END:VEVENT
END:VCALENDAR