BEGIN:VCALENDAR
VERSION:2.0
PRODID:-//Family Futures - ECPv6.15.20//NONSGML v1.0//EN
CALSCALE:GREGORIAN
METHOD:PUBLISH
X-ORIGINAL-URL:https://familyfutures.org
X-WR-CALDESC:Events for Family Futures
REFRESH-INTERVAL;VALUE=DURATION:PT1H
X-Robots-Tag:noindex
X-PUBLISHED-TTL:PT1H
BEGIN:VTIMEZONE
TZID:America/Detroit
BEGIN:DAYLIGHT
TZOFFSETFROM:-0500
TZOFFSETTO:-0400
TZNAME:EDT
DTSTART:20220313T070000
END:DAYLIGHT
BEGIN:STANDARD
TZOFFSETFROM:-0400
TZOFFSETTO:-0500
TZNAME:EST
DTSTART:20221106T060000
END:STANDARD
BEGIN:DAYLIGHT
TZOFFSETFROM:-0500
TZOFFSETTO:-0400
TZNAME:EDT
DTSTART:20230312T070000
END:DAYLIGHT
BEGIN:STANDARD
TZOFFSETFROM:-0400
TZOFFSETTO:-0500
TZNAME:EST
DTSTART:20231105T060000
END:STANDARD
BEGIN:DAYLIGHT
TZOFFSETFROM:-0500
TZOFFSETTO:-0400
TZNAME:EDT
DTSTART:20240310T070000
END:DAYLIGHT
BEGIN:STANDARD
TZOFFSETFROM:-0400
TZOFFSETTO:-0500
TZNAME:EST
DTSTART:20241103T060000
END:STANDARD
END:VTIMEZONE
BEGIN:VEVENT
DTSTART;TZID=America/Detroit:20230506T100000
DTEND;TZID=America/Detroit:20230506T140000
DTSTAMP:20260421T033143
CREATED:20230313T135739Z
LAST-MODIFIED:20230313T135739Z
UID:10000087-1683367200-1683381600@familyfutures.org
SUMMARY:Montcalm Community Baby Shower
DESCRIPTION:Great Start Montcalm will be having their annual Montcalm County Community Baby Shower! This is for moms who are pregnant or have a newborn under 6 months old and of course live in Montcalm County. Please register and you will receive a bunch of goodies! This is on a Saturday\, May 6\, 2023 from 10am – 2pm at the Montcalm Area Career Center\, 1550 W Sidney Road\, Sidney\, 48885.
URL:https://familyfutures.org/event/community-baby-shower/
LOCATION:Montcalm Area Career Center\, 1550 West Sidney Road\, Sidney\, MI\, 48885\, United States
END:VEVENT
END:VCALENDAR