BEGIN:VCALENDAR
VERSION:2.0
PRODID:-//Family Futures - ECPv6.15.20//NONSGML v1.0//EN
CALSCALE:GREGORIAN
METHOD:PUBLISH
X-WR-CALNAME:Family Futures
X-ORIGINAL-URL:https://familyfutures.org
X-WR-CALDESC:Events for Family Futures
REFRESH-INTERVAL;VALUE=DURATION:PT1H
X-Robots-Tag:noindex
X-PUBLISHED-TTL:PT1H
BEGIN:VTIMEZONE
TZID:America/Detroit
BEGIN:DAYLIGHT
TZOFFSETFROM:-0500
TZOFFSETTO:-0400
TZNAME:EDT
DTSTART:20230312T070000
END:DAYLIGHT
BEGIN:STANDARD
TZOFFSETFROM:-0400
TZOFFSETTO:-0500
TZNAME:EST
DTSTART:20231105T060000
END:STANDARD
BEGIN:DAYLIGHT
TZOFFSETFROM:-0500
TZOFFSETTO:-0400
TZNAME:EDT
DTSTART:20240310T070000
END:DAYLIGHT
BEGIN:STANDARD
TZOFFSETFROM:-0400
TZOFFSETTO:-0500
TZNAME:EST
DTSTART:20241103T060000
END:STANDARD
BEGIN:DAYLIGHT
TZOFFSETFROM:-0500
TZOFFSETTO:-0400
TZNAME:EDT
DTSTART:20250309T070000
END:DAYLIGHT
BEGIN:STANDARD
TZOFFSETFROM:-0400
TZOFFSETTO:-0500
TZNAME:EST
DTSTART:20251102T060000
END:STANDARD
END:VTIMEZONE
BEGIN:VEVENT
DTSTART;TZID=America/Detroit:20240816T163000
DTEND;TZID=America/Detroit:20240816T193000
DTSTAMP:20260422T201322
CREATED:20240711T143215Z
LAST-MODIFIED:20240729T171856Z
UID:10000065-1723825800-1723836600@familyfutures.org
SUMMARY:Family Fiesta
DESCRIPTION:Roosevelt Park Advocates will be hosting the 11th annual “Family Fiesta” on Friday\, August 16\, 2024 in Roberto Clemente Park from 4:30pm-7:30pm. This year’s event will celebrate an amazing decade of Family Fiesta events as well as include many fun\, free\, and family-friendly activities. This exciting event brings together families from SW Grand Rapids and throughout the city to enjoy food\, local vendors\, live entertainment\, and outdoor activities.Event highlights: Free food\, water and ice cream Free music and live entertainment Free interactive events such as Zumba and prize giveaways Fun photo booth Family friendly activities and kids’ crafts Information booths from local business and non-profits And much\, much more!
URL:https://familyfutures.org/event/family-fiesta/
LOCATION:Roberto Clemente Park\, 546 Rumsey St SW\, Grand Rapids\, MI\, 49503
END:VEVENT
BEGIN:VEVENT
DTSTART;TZID=America/Detroit:20240806T180000
DTEND;TZID=America/Detroit:20240806T200000
DTSTAMP:20260422T201322
CREATED:20240711T140025Z
LAST-MODIFIED:20240801T131759Z
UID:10000063-1722967200-1722974400@familyfutures.org
SUMMARY:National Night Out-Roberto Clemente Park
DESCRIPTION:National Night Out is an annual community-building event that promotes police & community partnerships to make our neighborhoods safer and more connected places to live. \nThis is a free event open to the entire community that includes food\, entertainment\, kid’s activities\, resources and giveaways!
URL:https://familyfutures.org/event/national-night-out-roosevelt-park-grand-rapids-roberto-clemente-park/
LOCATION:Roberto Clemente Park\, 546 Rumsey St SW\, Grand Rapids\, MI\, 49503
END:VEVENT
END:VCALENDAR