BEGIN:VCALENDAR
VERSION:2.0
PRODID:-//Family Futures - ECPv6.15.20//NONSGML v1.0//EN
CALSCALE:GREGORIAN
METHOD:PUBLISH
X-WR-CALNAME:Family Futures
X-ORIGINAL-URL:https://familyfutures.org
X-WR-CALDESC:Events for Family Futures
REFRESH-INTERVAL;VALUE=DURATION:PT1H
X-Robots-Tag:noindex
X-PUBLISHED-TTL:PT1H
BEGIN:VTIMEZONE
TZID:America/Detroit
BEGIN:DAYLIGHT
TZOFFSETFROM:-0500
TZOFFSETTO:-0400
TZNAME:EDT
DTSTART:20240310T070000
END:DAYLIGHT
BEGIN:STANDARD
TZOFFSETFROM:-0400
TZOFFSETTO:-0500
TZNAME:EST
DTSTART:20241103T060000
END:STANDARD
BEGIN:DAYLIGHT
TZOFFSETFROM:-0500
TZOFFSETTO:-0400
TZNAME:EDT
DTSTART:20250309T070000
END:DAYLIGHT
BEGIN:STANDARD
TZOFFSETFROM:-0400
TZOFFSETTO:-0500
TZNAME:EST
DTSTART:20251102T060000
END:STANDARD
BEGIN:DAYLIGHT
TZOFFSETFROM:-0500
TZOFFSETTO:-0400
TZNAME:EDT
DTSTART:20260308T070000
END:DAYLIGHT
BEGIN:STANDARD
TZOFFSETFROM:-0400
TZOFFSETTO:-0500
TZNAME:EST
DTSTART:20261101T060000
END:STANDARD
END:VTIMEZONE
BEGIN:VEVENT
DTSTART;TZID=America/Detroit:20250723T150000
DTEND;TZID=America/Detroit:20250723T170000
DTSTAMP:20260425T101016
CREATED:20250619T154654Z
LAST-MODIFIED:20250619T154654Z
UID:10000303-1753282800-1753290000@familyfutures.org
SUMMARY:🧑‍🤝‍🧑 Back to School Event
DESCRIPTION:Join Head Start for Kent County on Wednesday\, July 23rd from 3pm-5pm for their Back to School Event at Rogers Lane Head Start! \nFor more information click HERE
URL:https://familyfutures.org/event/back-to-school-event/
LOCATION:Rogers Lane Head Start\, 2929 Rogers Lane SW\, Wyoming\, MI\, 49509
CATEGORIES:Free Event
ATTACH;FMTTYPE=image/jpeg:https://familyfutures.org/wp-content/uploads/2025/06/Image20250612171424.jpg
END:VEVENT
END:VCALENDAR