BEGIN:VCALENDAR
VERSION:2.0
PRODID:-//Family Futures - ECPv6.15.20//NONSGML v1.0//EN
CALSCALE:GREGORIAN
METHOD:PUBLISH
X-ORIGINAL-URL:https://familyfutures.org
X-WR-CALDESC:Events for Family Futures
REFRESH-INTERVAL;VALUE=DURATION:PT1H
X-Robots-Tag:noindex
X-PUBLISHED-TTL:PT1H
BEGIN:VTIMEZONE
TZID:America/Detroit
BEGIN:DAYLIGHT
TZOFFSETFROM:-0500
TZOFFSETTO:-0400
TZNAME:EDT
DTSTART:20230312T070000
END:DAYLIGHT
BEGIN:STANDARD
TZOFFSETFROM:-0400
TZOFFSETTO:-0500
TZNAME:EST
DTSTART:20231105T060000
END:STANDARD
BEGIN:DAYLIGHT
TZOFFSETFROM:-0500
TZOFFSETTO:-0400
TZNAME:EDT
DTSTART:20240310T070000
END:DAYLIGHT
BEGIN:STANDARD
TZOFFSETFROM:-0400
TZOFFSETTO:-0500
TZNAME:EST
DTSTART:20241103T060000
END:STANDARD
BEGIN:DAYLIGHT
TZOFFSETFROM:-0500
TZOFFSETTO:-0400
TZNAME:EDT
DTSTART:20250309T070000
END:DAYLIGHT
BEGIN:STANDARD
TZOFFSETFROM:-0400
TZOFFSETTO:-0500
TZNAME:EST
DTSTART:20251102T060000
END:STANDARD
BEGIN:DAYLIGHT
TZOFFSETFROM:-0500
TZOFFSETTO:-0400
TZNAME:EDT
DTSTART:20260308T070000
END:DAYLIGHT
BEGIN:STANDARD
TZOFFSETFROM:-0400
TZOFFSETTO:-0500
TZNAME:EST
DTSTART:20261101T060000
END:STANDARD
END:VTIMEZONE
BEGIN:VEVENT
DTSTART;TZID=America/Detroit:20250805T180000
DTEND;TZID=America/Detroit:20250805T200000
DTSTAMP:20260423T215611
CREATED:20250710T183900Z
LAST-MODIFIED:20250710T183900Z
UID:10000350-1754416800-1754424000@familyfutures.org
SUMMARY:🧑‍🤝‍🧑⭐️ National Night Out
DESCRIPTION:Come see us at National Night Out on August 5th from 6pm-8pm at Roosevelt Park hosted by the Roosevelt Park Neighborhood Association! \nFor more information about the event click HERE
URL:https://familyfutures.org/event/national-night-out/
LOCATION:Roosevelt Park\, 739 Van Raalte Dr SW\, Grand Rapids\, MI\, 49503\, United States
CATEGORIES:Family Futures Attending,Free Event
ATTACH;FMTTYPE=image/jpeg:https://familyfutures.org/wp-content/uploads/2025/07/489961595_687473580581879_1309214915352269971_n.jpg
END:VEVENT
BEGIN:VEVENT
DTSTART;TZID=America/Detroit:20240716T183000
DTEND;TZID=America/Detroit:20240716T200000
DTSTAMP:20260423T215612
CREATED:20240525T124406Z
LAST-MODIFIED:20240525T124406Z
UID:10000121-1721154600-1721160000@familyfutures.org
SUMMARY:Summer Reading Celebration
DESCRIPTION:Celebrate summer with the Grand Rapids Public Library\, ReadGR\, and WZZM-13 On Your Side. \nJoin us for stories\, free book giveaways\, snacks\, craft activities\, lawn games\, and special guests. \nSign up for GRPL’s Summer Reading Challenge during this free event series designed for all ages. \nCelebre el verano con la Biblioteca Pública de Grand Rapids\, ReadGR y WZZM-13 On Your Side. \nÚnase a nosotros para escuchar historias\, obsequios de libros gratuitos\, refrigerios\, actividades manuales\, juegos en el césped e invitados especiales. \nRegístrese para el Desafío de Lectura de Verano de GRPL durante esta serie de eventos gratuitos diseñados para todas las edades.
URL:https://familyfutures.org/event/summer-reading-celebration-2/
LOCATION:Roosevelt Park\, 739 Van Raalte Dr SW\, Grand Rapids\, MI\, 49503\, United States
END:VEVENT
END:VCALENDAR