BEGIN:VCALENDAR
VERSION:2.0
PRODID:-//Family Futures - ECPv6.15.20//NONSGML v1.0//EN
CALSCALE:GREGORIAN
METHOD:PUBLISH
X-ORIGINAL-URL:https://familyfutures.org
X-WR-CALDESC:Events for Family Futures
REFRESH-INTERVAL;VALUE=DURATION:PT1H
X-Robots-Tag:noindex
X-PUBLISHED-TTL:PT1H
BEGIN:VTIMEZONE
TZID:America/Detroit
BEGIN:DAYLIGHT
TZOFFSETFROM:-0500
TZOFFSETTO:-0400
TZNAME:EDT
DTSTART:20220313T070000
END:DAYLIGHT
BEGIN:STANDARD
TZOFFSETFROM:-0400
TZOFFSETTO:-0500
TZNAME:EST
DTSTART:20221106T060000
END:STANDARD
BEGIN:DAYLIGHT
TZOFFSETFROM:-0500
TZOFFSETTO:-0400
TZNAME:EDT
DTSTART:20230312T070000
END:DAYLIGHT
BEGIN:STANDARD
TZOFFSETFROM:-0400
TZOFFSETTO:-0500
TZNAME:EST
DTSTART:20231105T060000
END:STANDARD
BEGIN:DAYLIGHT
TZOFFSETFROM:-0500
TZOFFSETTO:-0400
TZNAME:EDT
DTSTART:20240310T070000
END:DAYLIGHT
BEGIN:STANDARD
TZOFFSETFROM:-0400
TZOFFSETTO:-0500
TZNAME:EST
DTSTART:20241103T060000
END:STANDARD
END:VTIMEZONE
BEGIN:VEVENT
DTSTART;TZID=America/Detroit:20230520T093000
DTEND;TZID=America/Detroit:20230520T233000
DTSTAMP:20260424T093611
CREATED:20230329T130429Z
LAST-MODIFIED:20230329T130429Z
UID:10000084-1684575000-1684625400@familyfutures.org
SUMMARY:Grace's Table Spring Wellness Event
DESCRIPTION:aking care of our mental and physical health is vital to our well-being. But for teen mamas\, it can be extremely difficult to find support in these areas. \nAt Grounded in Grace\, you will meet guests from local organizations who are passionate about creating healthy communities. You’ll also learn about the importance of supporting teen mamas on their journey toward good mental and physical health. \nDuring this event\, you’ll have the opportunity to connect with your community\, enjoy refreshments\, and win amazing raffle prizes! \nFeaturing Guest Speaker Artesia Ridgel and yoga instructor the Feral Yogi. \n*Please bring your own yoga mat*
URL:https://familyfutures.org/event/spring-wellness-event/
LOCATION:WMCAT\, 614 First St. NW STE 300\, Grand Rapids\, MI\, 49504\, United States
END:VEVENT
END:VCALENDAR