BEGIN:VCALENDAR
VERSION:2.0
PRODID:-//Family Futures - ECPv6.15.20//NONSGML v1.0//EN
CALSCALE:GREGORIAN
METHOD:PUBLISH
X-ORIGINAL-URL:https://familyfutures.org
X-WR-CALDESC:Events for Family Futures
REFRESH-INTERVAL;VALUE=DURATION:PT1H
X-Robots-Tag:noindex
X-PUBLISHED-TTL:PT1H
BEGIN:VTIMEZONE
TZID:America/Detroit
BEGIN:DAYLIGHT
TZOFFSETFROM:-0500
TZOFFSETTO:-0400
TZNAME:EDT
DTSTART:20240310T070000
END:DAYLIGHT
BEGIN:STANDARD
TZOFFSETFROM:-0400
TZOFFSETTO:-0500
TZNAME:EST
DTSTART:20241103T060000
END:STANDARD
BEGIN:DAYLIGHT
TZOFFSETFROM:-0500
TZOFFSETTO:-0400
TZNAME:EDT
DTSTART:20250309T070000
END:DAYLIGHT
BEGIN:STANDARD
TZOFFSETFROM:-0400
TZOFFSETTO:-0500
TZNAME:EST
DTSTART:20251102T060000
END:STANDARD
BEGIN:DAYLIGHT
TZOFFSETFROM:-0500
TZOFFSETTO:-0400
TZNAME:EDT
DTSTART:20260308T070000
END:DAYLIGHT
BEGIN:STANDARD
TZOFFSETFROM:-0400
TZOFFSETTO:-0500
TZNAME:EST
DTSTART:20261101T060000
END:STANDARD
END:VTIMEZONE
BEGIN:VEVENT
DTSTART;TZID=America/Detroit:20250628T100000
DTEND;TZID=America/Detroit:20250628T160000
DTSTAMP:20260421T203712
CREATED:20250424T162048Z
LAST-MODIFIED:20250424T162105Z
UID:10000264-1751104800-1751126400@familyfutures.org
SUMMARY:📚 Empower Youth with Lifesaving Skills
DESCRIPTION:Join Pulse For The People for this FREE CPR and First Aid youth class on Saturday\, June 28th from 10am-4pm. \nStudents will learn: \n\nAdult CPR and AED Use\nChild CPR AED and Infant CPR\nFirst Aid Basics\n\nOpen to all 7th grade to graduated seniors. \nFor more information and to book your seat CLICK HERE
URL:https://familyfutures.org/event/empower-youth-with-lifesaving-skills/
LOCATION:Zayleigh Alexander Training Center\, 3060 Madison Ave SE\, Wyoming\, MI\, 49548
CATEGORIES:Free Event
ATTACH;FMTTYPE=image/jpeg:https://familyfutures.org/wp-content/uploads/2025/04/Image20250422154215.jpg
END:VEVENT
END:VCALENDAR