BEGIN:VCALENDAR
VERSION:2.0
PRODID:-//Family Futures - ECPv6.15.20//NONSGML v1.0//EN
CALSCALE:GREGORIAN
METHOD:PUBLISH
X-ORIGINAL-URL:https://familyfutures.org
X-WR-CALDESC:Events for Family Futures
REFRESH-INTERVAL;VALUE=DURATION:PT1H
X-Robots-Tag:noindex
X-PUBLISHED-TTL:PT1H
BEGIN:VTIMEZONE
TZID:America/Detroit
BEGIN:DAYLIGHT
TZOFFSETFROM:-0500
TZOFFSETTO:-0400
TZNAME:EDT
DTSTART:20230312T070000
END:DAYLIGHT
BEGIN:STANDARD
TZOFFSETFROM:-0400
TZOFFSETTO:-0500
TZNAME:EST
DTSTART:20231105T060000
END:STANDARD
BEGIN:DAYLIGHT
TZOFFSETFROM:-0500
TZOFFSETTO:-0400
TZNAME:EDT
DTSTART:20240310T070000
END:DAYLIGHT
BEGIN:STANDARD
TZOFFSETFROM:-0400
TZOFFSETTO:-0500
TZNAME:EST
DTSTART:20241103T060000
END:STANDARD
BEGIN:DAYLIGHT
TZOFFSETFROM:-0500
TZOFFSETTO:-0400
TZNAME:EDT
DTSTART:20250309T070000
END:DAYLIGHT
BEGIN:STANDARD
TZOFFSETFROM:-0400
TZOFFSETTO:-0500
TZNAME:EST
DTSTART:20251102T060000
END:STANDARD
END:VTIMEZONE
BEGIN:VEVENT
DTSTART;TZID=America/Detroit:20240927T100000
DTEND;TZID=America/Detroit:20240927T140000
DTSTAMP:20260424T201141
CREATED:20240801T135947Z
LAST-MODIFIED:20240801T135947Z
UID:10000130-1727431200-1727445600@familyfutures.org
SUMMARY:Community Resoure Fair
DESCRIPTION:Connect with a variety of community resources all in one place. Local organizations will be available to discuss different support options for many areas of life.
URL:https://familyfutures.org/event/community-resoure-fair/
LOCATION:Grand Rapids Public Library- Main Branch\, 111 Library Street NE\, Grand Rapids\, MI\, 49503
END:VEVENT
BEGIN:VEVENT
DTSTART;TZID=America/Detroit:20240927T100000
DTEND;TZID=America/Detroit:20240927T140000
DTSTAMP:20260424T201142
CREATED:20240808T194255Z
LAST-MODIFIED:20240808T194255Z
UID:10000136-1727431200-1727445600@familyfutures.org
SUMMARY:Community Resource Fair
DESCRIPTION:Connect with a variety of community resources all in one place. Local organizations will be available to discuss different supports for many areas of life.
URL:https://familyfutures.org/event/community-resource-fair/
LOCATION:Grand Rapids Public Library- Main Branch\, 111 Library Street NE\, Grand Rapids\, MI\, 49503
END:VEVENT
END:VCALENDAR